BEGIN:VCALENDAR
PRODID:-//eluceo/ical//2.0/EN
VERSION:2.0
CALSCALE:GREGORIAN
BEGIN:VEVENT
UID:36f128d55b5a29c36e65d839c00eac42
DTSTAMP:20260421T031131Z
SUMMARY:7:00 pm TBE Men's Club Poker March 2025
DESCRIPTION:Jewish Federation of the Lehigh Valley\nCommunity Calendar\nhtt
 ps://jewishlehighvalley.org/calendar/700-pm-tbe-mens-club-poker-march-2025
 \n\nTBE Men's Club Poker
DTSTART;TZID=America/New_York:20250317T190000
DTEND;TZID=America/New_York:20250317T210000
END:VEVENT
END:VCALENDAR
