BEGIN:VCALENDAR
PRODID:-//eluceo/ical//2.0/EN
VERSION:2.0
CALSCALE:GREGORIAN
BEGIN:VEVENT
UID:ad38a57a3f1ccc3fe080fee4fd72ceb0
DTSTAMP:20260420T083747Z
SUMMARY:7:00PM JFLV Board Meeting
DESCRIPTION:Jewish Federation of the Lehigh Valley\nCommunity Calendar\nhtt
 ps://jewishlehighvalley.org/calendar/700pm-jflv-board-meeting1923\n\nJFLV 
 Board Meeting
DTSTART;TZID=America/New_York:20230109T190000
DTEND;TZID=America/New_York:20230109T210000
END:VEVENT
END:VCALENDAR
