BEGIN:VCALENDAR
PRODID:-//eluceo/ical//2.0/EN
VERSION:2.0
CALSCALE:GREGORIAN
BEGIN:VEVENT
UID:caa39f80a2ec98544080b19979fbc511
DTSTAMP:20260425T122015Z
SUMMARY:7:00PM JFLV Board Meeting
DESCRIPTION:Jewish Federation of the Lehigh Valley\nCommunity Calendar\nhtt
 ps://jewishlehighvalley.org/calendar/700pm-jflv-board-meeting31725\n\nLoc:
  Chabad of the Lehigh Valley
DTSTART;TZID=America/New_York:20250317T190000
DTEND;TZID=America/New_York:20250317T201500
END:VEVENT
END:VCALENDAR
