BEGIN:VCALENDAR
PRODID:-//eluceo/ical//2.0/EN
VERSION:2.0
CALSCALE:GREGORIAN
BEGIN:VEVENT
UID:c36229d26188453003880ee05f49813b
DTSTAMP:20260419T174448Z
SUMMARY:7:00PM JFLV Board Meeting
DESCRIPTION:Jewish Federation of the Lehigh Valley\nCommunity Calendar\nhtt
 ps://jewishlehighvalley.org/calendar/700pm-jflv-board-meeting51826\n\nLOC:
  JCC
DTSTART;TZID=America/New_York:20260518T190000
DTEND;TZID=America/New_York:20260518T203000
END:VEVENT
END:VCALENDAR
