BEGIN:VCALENDAR
PRODID:-//eluceo/ical//2.0/EN
VERSION:2.0
CALSCALE:GREGORIAN
BEGIN:VEVENT
UID:88679cac61b8fe877f1c5029c090220f
DTSTAMP:20260420T013435Z
SUMMARY:7:00PM JFLV Women's Philanthropy Board Meeting
DESCRIPTION:Jewish Federation of the Lehigh Valley\nCommunity Calendar\nhtt
 ps://jewishlehighvalley.org/calendar/700pm-jflv-womens-philanthropy-board-
 meeting12623\n\nThe Women's Philathropy Board Meeting will be held via Zoo
 m. More details to follow.
DTSTART;TZID=America/New_York:20230202T190000
DTEND;TZID=America/New_York:20230202T203000
END:VEVENT
END:VCALENDAR
