BEGIN:VCALENDAR
PRODID:-//eluceo/ical//2.0/EN
VERSION:2.0
CALSCALE:GREGORIAN
BEGIN:VEVENT
UID:bbbedfa9c23017cfe5775f84a71e4a1c
DTSTAMP:20260421T084021Z
SUMMARY:7:15 PM JFS Board Meeting 01-24-2023
DESCRIPTION:Jewish Federation of the Lehigh Valley\nCommunity Calendar\nhtt
 ps://jewishlehighvalley.org/calendar/715-pm-jfs-board-meeting-01-24-2023\n
 \nJFS Board Meeting
DTSTART;TZID=America/New_York:20230124T191500
DTEND;TZID=America/New_York:20230124T210000
END:VEVENT
END:VCALENDAR
