BEGIN:VCALENDAR
PRODID:-//eluceo/ical//2.0/EN
VERSION:2.0
CALSCALE:GREGORIAN
BEGIN:VEVENT
UID:aa55083c73b2d9f7be4c21c3df893761
DTSTAMP:20260420T022817Z
SUMMARY:7:15pm JFSLV Board of Directors Meeting Zoom
DESCRIPTION:Jewish Federation of the Lehigh Valley\nCommunity Calendar\nhtt
 ps://jewishlehighvalley.org/calendar/715pm-jfslv-board-of-directors-meetin
 g-zoom\n\nMeeting will be held virtually by Zoom
DTSTART;TZID=America/New_York:20250318T191500
DTEND;TZID=America/New_York:20250318T201500
END:VEVENT
END:VCALENDAR
