BEGIN:VCALENDAR
PRODID:-//eluceo/ical//2.0/EN
VERSION:2.0
CALSCALE:GREGORIAN
BEGIN:VEVENT
UID:ed2184b94fafc75eafb2218c71fa3760
DTSTAMP:20260420T140126Z
SUMMARY:7:30 p.m. CSOI Board Meeting
DESCRIPTION:Jewish Federation of the Lehigh Valley\nCommunity Calendar\nhtt
 ps://jewishlehighvalley.org/calendar/730-pm-csoi-board-meeting\n\nCongrega
 tion Sons of Israel's monthly Board meeting will be held at 7:30 p.m.
DTSTART;TZID=America/New_York:20230125T193000
DTEND;TZID=America/New_York:20230125T210000
END:VEVENT
END:VCALENDAR
