BEGIN:VCALENDAR
PRODID:-//eluceo/ical//2.0/EN
VERSION:2.0
CALSCALE:GREGORIAN
BEGIN:VEVENT
UID:e764a582733634924c8c2502f21993d9
DTSTAMP:20260421T152013Z
SUMMARY:7:30 PM SOI Purim-Palooza Friday Night Dinner
DESCRIPTION:Jewish Federation of the Lehigh Valley\nCommunity Calendar\nhtt
 ps://jewishlehighvalley.org/calendar/730-pm-soi-purim-palooza-friday-night
 -dinner\n\nA Purim-Palooza Friday Night Dinner will be held at Sons of Isr
 ael at 7:30 p.m.
DTSTART;TZID=America/New_York:20250314T193000
DTEND;TZID=America/New_York:20250314T213000
END:VEVENT
END:VCALENDAR
