BEGIN:VCALENDAR
PRODID:-//eluceo/ical//2.0/EN
VERSION:2.0
CALSCALE:GREGORIAN
BEGIN:VEVENT
UID:3db6a2cd6ceb8050e89e762210d879df
DTSTAMP:20260425T223519Z
SUMMARY:7:30 pm TBE Board Meeting
DESCRIPTION:Jewish Federation of the Lehigh Valley\nCommunity Calendar\nhtt
 ps://jewishlehighvalley.org/calendar/730-pm-tbe-Mayboard-meeting\n\nContac
 t Michelle Rohrbach: michelle@bethelallentown.org or 610-435-3521
DTSTART;TZID=America/New_York:20150514T193000
DTEND;TZID=America/New_York:20150514T210000
END:VEVENT
END:VCALENDAR
