BEGIN:VCALENDAR
PRODID:-//eluceo/ical//2.0/EN
VERSION:2.0
CALSCALE:GREGORIAN
BEGIN:VEVENT
UID:fd641f6b23fb85ed3a5cee42be596f6d
DTSTAMP:20260424T202103Z
SUMMARY:7:30 pm TBE Board Meeting (Hybrid) March 2025
DESCRIPTION:Jewish Federation of the Lehigh Valley\nCommunity Calendar\nhtt
 ps://jewishlehighvalley.org/calendar/730-pm-tbe-board-meeting-hybrid-march
 -2025\n\nTBE Board Meeting (Hybrid)
DTSTART;TZID=America/New_York:20250312T193000
DTEND;TZID=America/New_York:20250312T203000
END:VEVENT
END:VCALENDAR
