BEGIN:VCALENDAR
PRODID:-//eluceo/ical//2.0/EN
VERSION:2.0
CALSCALE:GREGORIAN
BEGIN:VEVENT
UID:1046de92d20c603f5334f1ec9f20424c
DTSTAMP:20260421T151637Z
SUMMARY:7:30PM KI Megillah Reading
DESCRIPTION:Jewish Federation of the Lehigh Valley\nCommunity Calendar\nhtt
 ps://jewishlehighvalley.org/calendar/730pm-KI-Megillah-Reading\n\n7:30PM 
 KI Megillah Reading
DTSTART;TZID=America/New_York:20250313T193000
DTEND;TZID=America/New_York:20250313T213000
END:VEVENT
END:VCALENDAR
