BEGIN:VCALENDAR
PRODID:-//eluceo/ical//2.0/EN
VERSION:2.0
CALSCALE:GREGORIAN
BEGIN:VEVENT
UID:6e6869ba4f1f41ccde4ceaf3e551b42e
DTSTAMP:20260423T083131Z
SUMMARY:7:30pm JCC Executive Committee Meeting
DESCRIPTION:Jewish Federation of the Lehigh Valley\nCommunity Calendar\nhtt
 ps://jewishlehighvalley.org/calendar/730pm-executive-committee-meeting-jun
 e\n\nJCC Executive Committee Meeting
DTSTART;TZID=America/New_York:20210513T193000
DTEND;TZID=America/New_York:20210513T210000
END:VEVENT
END:VCALENDAR
