BEGIN:VCALENDAR
PRODID:-//eluceo/ical//2.0/EN
VERSION:2.0
CALSCALE:GREGORIAN
BEGIN:VEVENT
UID:2d92f82e0f2c5f8dc4952797eaf035a8
DTSTAMP:20260424T060442Z
SUMMARY:7:30pm JCC Executive Committee Meeting
DESCRIPTION:Jewish Federation of the Lehigh Valley\nCommunity Calendar\nhtt
 ps://jewishlehighvalley.org/calendar/730pm-executive-committee-meeting-may
 \n\nJCC Executive Committee Meeting
DTSTART;TZID=America/New_York:20200511T193000
DTEND;TZID=America/New_York:20200511T210000
END:VEVENT
END:VCALENDAR
