BEGIN:VCALENDAR
PRODID:-//eluceo/ical//2.0/EN
VERSION:2.0
CALSCALE:GREGORIAN
BEGIN:VEVENT
UID:36ea8a2652c45c0563c8aea8166fd533
DTSTAMP:20260422T173741Z
SUMMARY:7:30pm JCC Executive Committee Meeting
DESCRIPTION:Jewish Federation of the Lehigh Valley\nCommunity Calendar\nhtt
 ps://jewishlehighvalley.org/calendar/730pm-executive-committee-meeting-nov
 \n\nJCC Executive Committee Meeting
DTSTART;TZID=America/New_York:20191111T193000
DTEND;TZID=America/New_York:20191111T210000
END:VEVENT
END:VCALENDAR
