BEGIN:VCALENDAR
PRODID:-//eluceo/ical//2.0/EN
VERSION:2.0
CALSCALE:GREGORIAN
BEGIN:VEVENT
UID:8aebd1c857f0b69e9260e55b1616d42d
DTSTAMP:20260424T163155Z
SUMMARY:7:30PM JCC Board of Directors Meeting
DESCRIPTION:Jewish Federation of the Lehigh Valley\nCommunity Calendar\nhtt
 ps://jewishlehighvalley.org/calendar/730pm-jcc-board-of-directors-meeting-
 august\n\nJCC Board of Directors Meeting
DTSTART;TZID=America/New_York:20200827T193000
DTEND;TZID=America/New_York:20200827T210000
END:VEVENT
END:VCALENDAR
