BEGIN:VCALENDAR
PRODID:-//eluceo/ical//2.0/EN
VERSION:2.0
CALSCALE:GREGORIAN
BEGIN:VEVENT
UID:8aa2ec004ce72be0884b753c8cc638c7
DTSTAMP:20260422T114714Z
SUMMARY:7PM An Evening with Hagit Yaso
DESCRIPTION:Jewish Federation of the Lehigh Valley\nCommunity Calendar\nhtt
 ps://jewishlehighvalley.org/calendar/7pm-an-evening-with-hagit-yaso\n\nJoi
 n us for an unexpected and special opportunity to meet Hagit Yaso\, nation
 ally recognized singer\, “Israel Idol”\, and October 7th survivor. Hag
 it will tell her October 7th story alongside a moving performance. Registr
 ation is required for all attendants.
DTSTART;TZID=America/New_York:20250227T190000
DTEND;TZID=America/New_York:20250227T210000
END:VEVENT
END:VCALENDAR
