BEGIN:VCALENDAR
PRODID:-//eluceo/ical//2.0/EN
VERSION:2.0
CALSCALE:GREGORIAN
BEGIN:VEVENT
UID:a72eb2a95eabc41a6b7a95baa86d85eb
DTSTAMP:20260424T074703Z
SUMMARY:7pm JCC Jewish Film Nights at the J
DESCRIPTION:Jewish Federation of the Lehigh Valley\nCommunity Calendar\nhtt
 ps://jewishlehighvalley.org/calendar/7pm-jcc-jewish-film-nights-at-the-j-m
 ar\n\nJewish Film Nights at the J
DTSTART;TZID=America/New_York:20210316T190000
DTEND;TZID=America/New_York:20210316T210000
END:VEVENT
END:VCALENDAR
