BEGIN:VCALENDAR
PRODID:-//eluceo/ical//2.0/EN
VERSION:2.0
CALSCALE:GREGORIAN
BEGIN:VEVENT
UID:463520ecf3bb78b43247eaef15530a53
DTSTAMP:20260423T172113Z
SUMMARY:7pm JCC Stagemakers Performance
DESCRIPTION:Jewish Federation of the Lehigh Valley\nCommunity Calendar\nhtt
 ps://jewishlehighvalley.org/calendar/7pm-jcc-stagemakers-performance-mar25
 \n\nJCC Stagemakers Performance\n\nCrazy\, man – crazy! This charming\, 
 smooth\, and adventurous stage adaptation of Disney's The Aristocats Kids 
 is a celebration of Disney’s exploration into mid-century jazz in Paris.
  Cat-napped and abandoned miles from home by a dastardly butler with a hid
 den agenda\, Duchess and her kittens\, Telouse\, Berlioz\, and Marie – t
 he smartest Aristocats in Paris – set off on a journey to reunite with t
 heir beloved owner\, Madame. With the unlikely help of a jazz-lov...
DTSTART;TZID=America/New_York:20250327T190000
DTEND;TZID=America/New_York:20250327T203000
END:VEVENT
END:VCALENDAR
