BEGIN:VCALENDAR
PRODID:-//eluceo/ical//2.0/EN
VERSION:2.0
CALSCALE:GREGORIAN
BEGIN:VEVENT
UID:e5bc5bc32c2971aca31112a0ac484dc0
DTSTAMP:20260422T180236Z
SUMMARY:7pm JCC J's Got Talent
DESCRIPTION:Jewish Federation of the Lehigh Valley\nCommunity Calendar\nhtt
 ps://jewishlehighvalley.org/calendar/7pm-jccgottalent\n\nChildren come and
  perform at the end of 3 performances we will have a team of judges to dec
 lare a winner.  More info to follow.
DTSTART;TZID=America/New_York:20191019T190000
DTEND;TZID=America/New_York:20191019T210000
END:VEVENT
END:VCALENDAR
