BEGIN:VCALENDAR
PRODID:-//eluceo/ical//2.0/EN
VERSION:2.0
CALSCALE:GREGORIAN
BEGIN:VEVENT
UID:5515dd7f0c903372721af91e9543df15
DTSTAMP:20260421T030238Z
SUMMARY:7PM Screening of 'October 8' Documentary
DESCRIPTION:Jewish Federation of the Lehigh Valley\nCommunity Calendar\nhtt
 ps://jewishlehighvalley.org/calendar/7pm-screening-of-october-8-documentar
 y\n\nDirected by Wendy Sachs and starring Debra Messing\, Michael Rapoport
  and Noa Tishby\, October 8 exposes the emergence of antisemitism on colle
 ge campuses\, in social media and on the streets since October 7\, 2023\, 
 when Hamas unleashed its brutal assault on Israel. The film provides an un
 derstanding of the shift in the current narrative as it pertains to Israel
  and how the real story is being silenced.\n\nCost: $10 per person\, regis
 tration required\n\nChaired by Lauren Rabin and Amy Golding
DTSTART;TZID=America/New_York:20250331T190000
DTEND;TZID=America/New_York:20250331T210000
END:VEVENT
END:VCALENDAR
