BEGIN:VCALENDAR
PRODID:-//eluceo/ical//2.0/EN
VERSION:2.0
CALSCALE:GREGORIAN
BEGIN:VEVENT
UID:178411e8a4024ea2a543b7710c550d4a
DTSTAMP:20260419T213703Z
SUMMARY:8:00 pm TBE Selichot program and service
DESCRIPTION:Jewish Federation of the Lehigh Valley\nCommunity Calendar\nhtt
 ps://jewishlehighvalley.org/calendar/800-pm-tbe-selichot-program-and-servi
 ce\n\nSelichot program followed by service
DTSTART;TZID=America/New_York:20240928T200000
DTEND;TZID=America/New_York:20240928T210000
END:VEVENT
END:VCALENDAR
