BEGIN:VCALENDAR
PRODID:-//eluceo/ical//2.0/EN
VERSION:2.0
CALSCALE:GREGORIAN
BEGIN:VEVENT
UID:db071fe53297bb8fac1adc6320d25a13
DTSTAMP:20260420T045049Z
SUMMARY:8:00AM JFLV Life & Legacy Training
DESCRIPTION:Jewish Federation of the Lehigh Valley\nCommunity Calendar\nhtt
 ps://jewishlehighvalley.org/calendar/800am-jflv-life-legacy-training92624\
 n\nThursday\, September 26\, 2024\n8:00 a.m. - 10:00 a.m.\nJCC Kline Audit
 orium\n\nJoin us for a workshop on how to attract & energize new volunteer
 s. \n\nThis event is in partnership with the Lehigh Valley Jewish Foundat
 ion. All agency & congregation staff (including volunteers) are invited to
  attend.\n\nBagels and coffee will be served. Registration is required.\n\
 nREGISTER HERE BY FRIDAY\, SEPTEMBER 20\, 2024
DTSTART;TZID=America/New_York:20240926T080000
DTEND;TZID=America/New_York:20240926T100000
END:VEVENT
END:VCALENDAR
