BEGIN:VCALENDAR
PRODID:-//eluceo/ical//2.0/EN
VERSION:2.0
CALSCALE:GREGORIAN
BEGIN:VEVENT
UID:d208718b8926eed6577efb1b24632dae
DTSTAMP:20260421T003316Z
SUMMARY:8:30 am JDS Mental Health Matters
DESCRIPTION:Jewish Federation of the Lehigh Valley\nCommunity Calendar\nhtt
 ps://jewishlehighvalley.org/calendar/830-am-jds-mental-health-matters\n\nJ
 oin us for an intimate monthly speaker series about mental health for you\
 , your friends and your family. Topics will include mindfulness\, digital 
 wellness\, and parenting support.\n\nFree and open to the entire community
 .\n\nRegistration is required. Click here to register.\n\nLocation: Jewish
  Day School\, 2313 W Pennsylvania Street\, Allentown PA 18104 
DTSTART;TZID=America/New_York:20250227T083000
DTEND;TZID=America/New_York:20250227T100000
END:VEVENT
END:VCALENDAR
