BEGIN:VCALENDAR
PRODID:-//eluceo/ical//2.0/EN
VERSION:2.0
CALSCALE:GREGORIAN
BEGIN:VEVENT
UID:b811f0e47c40239892f4b408d0444d30
DTSTAMP:20260421T151911Z
SUMMARY:8:30 am JDS Mental Health Matters 3/24/25
DESCRIPTION:Jewish Federation of the Lehigh Valley\nCommunity Calendar\nhtt
 ps://jewishlehighvalley.org/calendar/830-am-jds-mental-health-matters-3242
 5\n\nJoin us for an intimate monthly speaker series about mental health fo
 r you\, your friends and your family. Topics will include mindfulness\, di
 gital wellness\, and parenting support.\n\nFree and open to the entire com
 munity.\n\nRegistration is required. Click here to register.\n\nLocation: 
 Jewish Day School\, 2313 W Pennsylvania Street\, Allentown PA 18104 
DTSTART;TZID=America/New_York:20250324T083000
DTEND;TZID=America/New_York:20250324T100000
END:VEVENT
END:VCALENDAR
