BEGIN:VCALENDAR
PRODID:-//eluceo/ical//2.0/EN
VERSION:2.0
CALSCALE:GREGORIAN
BEGIN:VEVENT
UID:fa9eecfcbdeb2a5c43e1ccc7f36179ac
DTSTAMP:20260420T105417Z
SUMMARY:8am JCC Broadway Bus Trip
DESCRIPTION:Jewish Federation of the Lehigh Valley\nCommunity Calendar\nhtt
 ps://jewishlehighvalley.org/calendar/8am-jcc-broadway-bus-trip-march\n\nJo
 in us for the next show in our Broadway Series as we venture back to New Y
 ork City to see Hell's Kitchen.
DTSTART;TZID=America/New_York:20250302T080000
DTEND;TZID=America/New_York:20250302T200000
END:VEVENT
END:VCALENDAR
