BEGIN:VCALENDAR
PRODID:-//eluceo/ical//2.0/EN
VERSION:2.0
CALSCALE:GREGORIAN
BEGIN:VEVENT
UID:fe403d7d8c4876e29c01664f56e8823a
DTSTAMP:20260422T181057Z
SUMMARY:9 am TBE Grade 6 Family Program January 22\, 2023
DESCRIPTION:Jewish Federation of the Lehigh Valley\nCommunity Calendar\nhtt
 ps://jewishlehighvalley.org/calendar/9-am-tbe-grade-6-family-program-janua
 ry-22-2023\n\n9 am TBE Grade 6 Program
DTSTART;TZID=America/New_York:20230122T090000
DTEND;TZID=America/New_York:20230122T110000
END:VEVENT
END:VCALENDAR
