BEGIN:VCALENDAR
PRODID:-//eluceo/ical//2.0/EN
VERSION:2.0
CALSCALE:GREGORIAN
BEGIN:VEVENT
UID:dd3f97f733cf5ccfffdb5dd0158c21b8
DTSTAMP:20260419T173934Z
SUMMARY:9:00 am Climate Disruption-Moral Issue-Interfaith Climate Advocacy 
 Training
DESCRIPTION:Jewish Federation of the Lehigh Valley\nCommunity Calendar\nhtt
 ps://jewishlehighvalley.org/calendar/900-am-climate-disruption-moral-issue
 -interfaith-climate-advocacy-training-1453232594\n\n$30 registration fee i
 ncludes lunch & snacks. Contact Dr. John Brown at mit69@rcn.com.
DTSTART;TZID=America/New_York:20160215T090000
DTEND;TZID=America/New_York:20160215T163000
END:VEVENT
END:VCALENDAR
