BEGIN:VCALENDAR
PRODID:-//eluceo/ical//2.0/EN
VERSION:2.0
CALSCALE:GREGORIAN
BEGIN:VEVENT
UID:f9911308de238469e06147e48393eb86
DTSTAMP:20260419T174631Z
SUMMARY:9:00 am JCC Pickleball Tournament
DESCRIPTION:Jewish Federation of the Lehigh Valley\nCommunity Calendar\nhtt
 ps://jewishlehighvalley.org/calendar/900-am-jcc-pickleball-tournament-dec-
 2018\n\nContact Terrence Baker: tbaker@lvjcc.org or 610-435-3571
DTSTART;TZID=America/New_York:20181216T090000
DTEND;TZID=America/New_York:20181216T170000
END:VEVENT
END:VCALENDAR
