BEGIN:VCALENDAR
PRODID:-//eluceo/ical//2.0/EN
VERSION:2.0
CALSCALE:GREGORIAN
BEGIN:VEVENT
UID:ea2c75170792413e7b5f8de42e76cdca
DTSTAMP:20260420T013928Z
SUMMARY:9:00 am TBE Sisterhood Giftique
DESCRIPTION:Jewish Federation of the Lehigh Valley\nCommunity Calendar\nhtt
 ps://jewishlehighvalley.org/calendar/900-am-sisterhood-giftique\n\nSisterh
 ood Giftique
DTSTART;TZID=America/New_York:20261122T090000
DTEND;TZID=America/New_York:20261122T110000
END:VEVENT
END:VCALENDAR
