BEGIN:VCALENDAR
PRODID:-//eluceo/ical//2.0/EN
VERSION:2.0
CALSCALE:GREGORIAN
BEGIN:VEVENT
UID:71dfd92ca806964d7d756b793951d9f2
DTSTAMP:20260426T000246Z
SUMMARY:9:00 am TBE 6th Grade Family Program
DESCRIPTION:Jewish Federation of the Lehigh Valley\nCommunity Calendar\nhtt
 ps://jewishlehighvalley.org/calendar/900-am-tbe-6th-grade-family-program\n
 \nTBE 6th Grade Family Program
DTSTART;TZID=America/New_York:20250223T090000
DTEND;TZID=America/New_York:20250223T100000
END:VEVENT
END:VCALENDAR
