BEGIN:VCALENDAR
PRODID:-//eluceo/ical//2.0/EN
VERSION:2.0
CALSCALE:GREGORIAN
BEGIN:VEVENT
UID:0d19bc7629be9a6278f823f78cdb7602
DTSTAMP:20260420T113029Z
SUMMARY:9:00am JCC Winter II 2019: Mosaics
DESCRIPTION:Jewish Federation of the Lehigh Valley\nCommunity Calendar\nhtt
 ps://jewishlehighvalley.org/calendar/900am-jcc-winter-ii-2019-mosaics\n\nI
 n this 4-week class you will learn all the skills needed to create your ow
 n beautiful mosaic art. Instructor Cindy Schneider will teach participants
  how to safely handle glass and how to use appropriate glass cutting tools
 .
DTSTART;TZID=America/New_York:20190331T090000
DTEND;TZID=America/New_York:20190331T113000
END:VEVENT
END:VCALENDAR
