BEGIN:VCALENDAR
PRODID:-//eluceo/ical//2.0/EN
VERSION:2.0
CALSCALE:GREGORIAN
BEGIN:VEVENT
UID:bb634ba8efb6563474f2e4b648d8e5f2
DTSTAMP:20260419T205810Z
SUMMARY:9:30 am JFLV/JCC Jewish Film Series Discussion - The Red Sea Diving
  Resort
DESCRIPTION:Jewish Federation of the Lehigh Valley\nCommunity Calendar\nhtt
 ps://jewishlehighvalley.org/calendar/930-am-jflvjcc-jewish-film-series-dis
 cussion-the-red-sea-diving-resort\n\nJoin us to hear the story of Farede A
 klum\, an Ethiopian Jewish activist\, portrayed in the hit movie\, "The Re
 d Sea Diving Resort." Benny Aklum\, Farede's son\, will join us via Zoom f
 rom Israel\, to share his father's legacy\, and his involvement in ferryin
 g hundreds of Ethiopian Jews from Sudan to Israel. There will be time afte
 r the presentation for audience Q&A. This program is presented by Partners
 hip2Gether and the Jewish Film Series.\n\nA lite bagel breakfast will be s
 erved.\n\nLocation: JCC...
DTSTART;TZID=America/New_York:20250223T093000
DTEND;TZID=America/New_York:20250223T110000
END:VEVENT
END:VCALENDAR
