BEGIN:VCALENDAR
PRODID:-//eluceo/ical//2.0/EN
VERSION:2.0
CALSCALE:GREGORIAN
BEGIN:VEVENT
UID:3a32f4ef552b6c82297ac64fd2fe67eb
DTSTAMP:20260424T220432Z
SUMMARY:9:30 am KI Annual Meeting
DESCRIPTION:Jewish Federation of the Lehigh Valley\nCommunity Calendar\nhtt
 ps://jewishlehighvalley.org/calendar/930-am-ki-annual-meeting\n\nMore info
 rmation coming soon!
DTSTART;TZID=America/New_York:20260614T093000
DTEND;TZID=America/New_York:20260614T120000
END:VEVENT
END:VCALENDAR
