BEGIN:VCALENDAR
PRODID:-//eluceo/ical//2.0/EN
VERSION:2.0
CALSCALE:GREGORIAN
BEGIN:VEVENT
UID:9a3c433e9869ff639865ee6b0ceca103
DTSTAMP:20260420T032043Z
SUMMARY:9:30 am TBE Service and First Grade Class Service
DESCRIPTION:Jewish Federation of the Lehigh Valley\nCommunity Calendar\nhtt
 ps://jewishlehighvalley.org/calendar/930-am-tbe-service-and-first-grade-cl
 ass-service\n\n9:30 am Service and First Grade Class Service
DTSTART;TZID=America/New_York:20230128T093000
DTEND;TZID=America/New_York:20230128T113000
END:VEVENT
END:VCALENDAR
