BEGIN:VCALENDAR
PRODID:-//eluceo/ical//2.0/EN
VERSION:2.0
CALSCALE:GREGORIAN
BEGIN:VEVENT
UID:8a3e20d9f8ae86b91024adaedeee9a26
DTSTAMP:20260420T045801Z
SUMMARY:9:45 am TBE Sisterhood Mitzvah Brunch
DESCRIPTION:Jewish Federation of the Lehigh Valley\nCommunity Calendar\nhtt
 ps://jewishlehighvalley.org/calendar/945-am-tbe-sisterhood-mitzvah-brunch\
 n\n9:45 am TBE Sisterhood Mitzvah Brunch
DTSTART;TZID=America/New_York:20230108T094500
DTEND;TZID=America/New_York:20230108T114500
END:VEVENT
END:VCALENDAR
