BEGIN:VCALENDAR
PRODID:-//eluceo/ical//2.0/EN
VERSION:2.0
CALSCALE:GREGORIAN
BEGIN:VEVENT
UID:96eb09c53197634ebb981de7e1e3bce5
DTSTAMP:20260419T213944Z
SUMMARY:9am JCC American Red Cross Lifeguard Certification Class
DESCRIPTION:Jewish Federation of the Lehigh Valley\nCommunity Calendar\nhtt
 ps://jewishlehighvalley.org/calendar/9am-jcc-american-red-cross-lifeguard-
 certification-class\n\nThis course teaches the knowledge and skills needed
  to prevent and respond to aquatic emergencies at a swimming pool facility
 . Participants must pass the prerequisite swim test and the final exams. A
 ll course materials will be provided.\n\nPlease contact Jodi Lovenwirth fo
 r additional information at jlovenwirth@lvjcc.org
DTSTART;TZID=America/New_York:20250330T090000
DTEND;TZID=America/New_York:20250330T140000
END:VEVENT
END:VCALENDAR
