BEGIN:VCALENDAR
PRODID:-//eluceo/ical//2.0/EN
VERSION:2.0
CALSCALE:GREGORIAN
BEGIN:VEVENT
UID:f53aef79a3e0f90fbd1bcdfa00d161ab
DTSTAMP:20260423T223335Z
SUMMARY:1:00 pm Am Haskalah - Seeing Judaism Through the Lens of Disability
DESCRIPTION:Jewish Federation of the Lehigh Valley\nCommunity Calendar\nhtt
 ps://jewishlehighvalley.org/calendar/am-haskalah-seeing-judaism-through-th
 e-lens-of-disability\n\nThe intersection of Judaism and disability has exi
 sted all along. How have people with disabilities shaped Judaism? How does
  one identity affect the other? What has improved and what still needs to 
 change? This class discussion aims to broaden knowledge & increase awarene
 ss with the goal of using these skills to actively improve our communities
 .  With Rabbi Steve Nathan & Susan Schaffer.\n\nFree and open to ALL\, i
 n person & online.\n\nIn person: 1190 W. Macada Road\, Bethlehem - RSVP\,
  pleas...
DTSTART;TZID=America/New_York:20260208T130000
DTEND;TZID=America/New_York:20260208T143000
END:VEVENT
END:VCALENDAR
