BEGIN:VCALENDAR
PRODID:-//eluceo/ical//2.0/EN
VERSION:2.0
CALSCALE:GREGORIAN
BEGIN:VEVENT
UID:9cab4bde1ade616e78bf11d34be4d0f5
DTSTAMP:20260423T043842Z
SUMMARY:CBS Adult B’nei Mitzvah Program
DESCRIPTION:Jewish Federation of the Lehigh Valley\nCommunity Calendar\nhtt
 ps://jewishlehighvalley.org/calendar/cbs-adult-bnei-mitzvah-program\n\nAdu
 lt B’nei Mitzvah Program\n\n \n\nGoals: In part two of the adult B’ne
 i Mitzvah program we will continue to improve our Hebrew reading skills\, 
 explore the structure of the siddur\, learn about key prayers\, and contin
 ue our study of the te’amim (trope) for Torah and Haftarah.  \n\nRequir
 ed texts: JPS English TaNaKh or Etz Hayyim Chumash\, Aleph isn’t Tough (
 AnT) 1 & 2\, Torah/Haftarah trope book\n\n 
DTSTART;TZID=America/New_York:20181017T191500
DTEND;TZID=America/New_York:20181017T210000
END:VEVENT
END:VCALENDAR
