BEGIN:VCALENDAR
PRODID:-//eluceo/ical//2.0/EN
VERSION:2.0
CALSCALE:GREGORIAN
BEGIN:VEVENT
UID:4889fd647c49c05183769365053ee14c
DTSTAMP:20260422T155506Z
SUMMARY:11:00 am CBS Leftovers\, Hand-Me-Downs\, and Treasures
DESCRIPTION:Jewish Federation of the Lehigh Valley\nCommunity Calendar\nhtt
 ps://jewishlehighvalley.org/calendar/cbs-leftovers-hand-me-downs-and-treas
 ures\n\nLeftovers\, Hand-Me-Downs\, and Treasures\n\nLeftovers become wast
 ed food when we don't know what to do with them and 40% of\n\nwasted food 
 in the United States comes from our homes.\n\nRabbi Juda focuses on this p
 roblem as he considers what the Jewish value of bal tashkhit.\n\nand Jewis
 h tradition have to say about waste\, of all kinds.\n\nLearn how to plan a
  meal with the idea of using leftovers in a re-purposed second\n\nmeal. Ja
 nnie Kay will tackle this challenge as she and class participant...
DTSTART;TZID=America/New_York:20200128T110000
DTEND;TZID=America/New_York:20200128T133000
END:VEVENT
END:VCALENDAR
