BEGIN:VCALENDAR
PRODID:-//eluceo/ical//2.0/EN
VERSION:2.0
CALSCALE:GREGORIAN
BEGIN:VEVENT
UID:7365e6b084b7da4c7adbf33a8300c8c3
DTSTAMP:20260421T011618Z
SUMMARY:Election Forum: Certainty Versus Uncertainty
DESCRIPTION:Jewish Federation of the Lehigh Valley\nCommunity Calendar\nhtt
 ps://jewishlehighvalley.org/calendar/election-forum-certainty-versus-uncer
 tainty-2016\n\nGet insight from a leading pollster into the coming preside
 ntial and congressional contests as to what issues will have the greatest 
 impact. Examine the issue of continuity and discontinuity in American hist
 ory from the perspective of an American historian with:\n\nDr. Chris Boric
 k\nDirector of the Institute of Public Opinion\, Muhlenberg College\n\nDr.
  Gordon Goldberg\nProfessor Emeritus of History\, Kutztown University\n\nS
 ponsored by Congregation Brith Sholom’s Adult Education Committee...
DTSTART;TZID=America/New_York:20161102T193000
DTEND;TZID=America/New_York:20161102T213000
END:VEVENT
END:VCALENDAR
