BEGIN:VCALENDAR
PRODID:-//eluceo/ical//2.0/EN
VERSION:2.0
CALSCALE:GREGORIAN
BEGIN:VEVENT
UID:6e6e3b48e780e7963ddcbc7daa7f2264
DTSTAMP:20260419T203954Z
SUMMARY:Federation Offices Closed
DESCRIPTION:Jewish Federation of the Lehigh Valley\nCommunity Calendar\nhtt
 ps://jewishlehighvalley.org/calendar/federation-offices-closed-12-25-20\n\
 nFederation Offices Closed
DTSTART;TZID=America/New_York:20201225T000000
DTEND;TZID=America/New_York:20201225T000000
END:VEVENT
END:VCALENDAR
