BEGIN:VCALENDAR
PRODID:-//eluceo/ical//2.0/EN
VERSION:2.0
CALSCALE:GREGORIAN
BEGIN:VEVENT
UID:11ee3a11a37bb2bac03be8e6d8c88544
DTSTAMP:20260422T170707Z
SUMMARY:IAJ Youth Program at Temple Beth El
DESCRIPTION:Jewish Federation of the Lehigh Valley\nCommunity Calendar\nhtt
 ps://jewishlehighvalley.org/calendar/iaj-youth-program-at-temple-beth-el\n
 \nIAJ Youth Program at Temple Beth El\n\nCost: $180 per Youth\n\nTwo M
 ondays per Month\n\nJanuary: 9 & 23\, February:  6 (tentative) &
  27\, March: 13 & 27\, April: 3 & 24\, May: 8
DTSTART;TZID=America/New_York:20230109T180000
DTEND;TZID=America/New_York:20230109T200000
END:VEVENT
END:VCALENDAR
