BEGIN:VCALENDAR
PRODID:-//eluceo/ical//2.0/EN
VERSION:2.0
CALSCALE:GREGORIAN
BEGIN:VEVENT
UID:8984491ffd2ab49f97f291b734424b73
DTSTAMP:20260420T045701Z
SUMMARY:Israel in Focus: A conversation with Military Expert MAJ John Spenc
 er (Ret)
DESCRIPTION:Jewish Federation of the Lehigh Valley\nCommunity Calendar\nhtt
 ps://jewishlehighvalley.org/calendar/israel-in-focus-a-conversation-with-m
 ilitary-expert-maj-john-spencer-ret\n\nJoin us for an important conversati
 on with John Spencer\, the nation’s foremost expert on urban warfare. Sp
 encer has been one of the most articulate voices explaining Israel’s mil
 itary operations in Gaza and beyond following the Hamas attacks of October
  7.\n\nHear his expert insight on Israel’s efforts to defend itself and 
 his perspective on what may follow as the war comes to an end.\n\nClick he
 re to register. Registration is required.\n\n \n\nAbout the Speaker\n\nJo
 hn Spencer is a hig...
DTSTART;TZID=America/New_York:20260112T190000
DTEND;TZID=America/New_York:20260112T203000
END:VEVENT
END:VCALENDAR
