BEGIN:VCALENDAR
PRODID:-//eluceo/ical//2.0/EN
VERSION:2.0
CALSCALE:GREGORIAN
BEGIN:VEVENT
UID:fba77bcd43f628723cc2fe7089c18853
DTSTAMP:20260421T180018Z
SUMMARY:JCC Jewish Community Center Closed
DESCRIPTION:Jewish Federation of the Lehigh Valley\nCommunity Calendar\nhtt
 ps://jewishlehighvalley.org/calendar/jcc-closed\n\nJCC Closed
DTSTART;TZID=America/New_York:20230101T000000
DTEND;TZID=America/New_York:20230101T000000
END:VEVENT
END:VCALENDAR
