BEGIN:VCALENDAR
PRODID:-//eluceo/ical//2.0/EN
VERSION:2.0
CALSCALE:GREGORIAN
BEGIN:VEVENT
UID:4a22377e5ce9e797a5fc957ee7846b2a
DTSTAMP:20260426T000511Z
SUMMARY:JCC Jewish Community Center Closed
DESCRIPTION:Jewish Federation of the Lehigh Valley\nCommunity Calendar\nhtt
 ps://jewishlehighvalley.org/calendar/jcc-jewish-community-center-closed23\
 n\nJCC closed for holiday.
DTSTART;TZID=America/New_York:20240423T000000
DTEND;TZID=America/New_York:20240423T000000
END:VEVENT
END:VCALENDAR
