BEGIN:VCALENDAR
PRODID:-//eluceo/ical//2.0/EN
VERSION:2.0
CALSCALE:GREGORIAN
BEGIN:VEVENT
UID:338c283fe94ba5317fc6c5d0b69aa072
DTSTAMP:20260421T193654Z
SUMMARY:7:00 pm JDS Exec Committee Mtg
DESCRIPTION:Jewish Federation of the Lehigh Valley\nCommunity Calendar\nhtt
 ps://jewishlehighvalley.org/calendar/jds-exec-committee-mtg-1719505258\n\n
 JDS Exec Committee
DTSTART;TZID=America/New_York:20250310T190000
DTEND;TZID=America/New_York:20250310T210000
END:VEVENT
END:VCALENDAR
