BEGIN:VCALENDAR
PRODID:-//eluceo/ical//2.0/EN
VERSION:2.0
CALSCALE:GREGORIAN
BEGIN:VEVENT
UID:a1994ea9e05e6db97fe1bc802efe3da0
DTSTAMP:20260421T085540Z
SUMMARY:7:00 pm JDS General Board
DESCRIPTION:Jewish Federation of the Lehigh Valley\nCommunity Calendar\nhtt
 ps://jewishlehighvalley.org/calendar/jds-general-board-1719505319\n\nJDS B
 oard Meeting
DTSTART;TZID=America/New_York:20250318T190000
DTEND;TZID=America/New_York:20250318T210000
END:VEVENT
END:VCALENDAR
