BEGIN:VCALENDAR
PRODID:-//eluceo/ical//2.0/EN
VERSION:2.0
CALSCALE:GREGORIAN
BEGIN:VEVENT
UID:05acbe4d8f9eb29bedf4adcc4271f88b
DTSTAMP:20260422T080123Z
SUMMARY:JFLV Endowment Committee Meeting 2/26/25
DESCRIPTION:Jewish Federation of the Lehigh Valley\nCommunity Calendar\nhtt
 ps://jewishlehighvalley.org/calendar/jflv-endowment-committee-meeting-2262
 5\n\nLocation: JCC Boardroom
DTSTART;TZID=America/New_York:20250226T093000
DTEND;TZID=America/New_York:20250226T110000
END:VEVENT
END:VCALENDAR
