BEGIN:VCALENDAR
PRODID:-//eluceo/ical//2.0/EN
VERSION:2.0
CALSCALE:GREGORIAN
BEGIN:VEVENT
UID:4301f6202a9647458c0b250736f4ceea
DTSTAMP:20260421T201243Z
SUMMARY:JFLV MAI Brunch & Learn  GLP-1 Agonist Therapy: It's Not Just For D
 iabetes!
DESCRIPTION:Jewish Federation of the Lehigh Valley\nCommunity Calendar\nhtt
 ps://jewishlehighvalley.org/calendar/jflv-mai-brunch-learn-3-23-25\n\nJoin
  the Maimonides Society for a Brunch & Learn with Dr. Marc Vengrove\, who
  will discuss the multiple indications for using this class of drug incl
 uding diabetes\, CAD\, heart failure and obesity.\n\nRegistration link to
  follow.
DTSTART;TZID=America/New_York:20250323T100000
DTEND;TZID=America/New_York:20250323T113000
END:VEVENT
END:VCALENDAR
